BEGIN:VCALENDAR
VERSION:2.0
PRODID:-//MOAC - Maine Outdoor Adventure Club - ECPv6.15.12.1//NONSGML v1.0//EN
CALSCALE:GREGORIAN
METHOD:PUBLISH
X-ORIGINAL-URL:https://moac.org
X-WR-CALDESC:Events for MOAC - Maine Outdoor Adventure Club
REFRESH-INTERVAL;VALUE=DURATION:PT1H
X-Robots-Tag:noindex
X-PUBLISHED-TTL:PT1H
BEGIN:VTIMEZONE
TZID:America/New_York
BEGIN:DAYLIGHT
TZOFFSETFROM:-0500
TZOFFSETTO:-0400
TZNAME:EDT
DTSTART:20210314T070000
END:DAYLIGHT
BEGIN:STANDARD
TZOFFSETFROM:-0400
TZOFFSETTO:-0500
TZNAME:EST
DTSTART:20211107T060000
END:STANDARD
BEGIN:DAYLIGHT
TZOFFSETFROM:-0500
TZOFFSETTO:-0400
TZNAME:EDT
DTSTART:20220313T070000
END:DAYLIGHT
BEGIN:STANDARD
TZOFFSETFROM:-0400
TZOFFSETTO:-0500
TZNAME:EST
DTSTART:20221106T060000
END:STANDARD
BEGIN:DAYLIGHT
TZOFFSETFROM:-0500
TZOFFSETTO:-0400
TZNAME:EDT
DTSTART:20230312T070000
END:DAYLIGHT
BEGIN:STANDARD
TZOFFSETFROM:-0400
TZOFFSETTO:-0500
TZNAME:EST
DTSTART:20231105T060000
END:STANDARD
END:VTIMEZONE
BEGIN:VEVENT
DTSTART;TZID=America/New_York:20220704T100000
DTEND;TZID=America/New_York:20220704T180000
DTSTAMP:20260424T153910
CREATED:20220628T142850Z
LAST-MODIFIED:20220628T142850Z
UID:10000549-1656928800-1656957600@moac.org
SUMMARY:July 4th Sail & Lobster Bake!
DESCRIPTION:Celebrate our democracy July 4th!  Choose to come!  Prove you needn’t be a rich tourist from away to Have a lobster on an island!  Sailing the Emily Jane\, a 37′ cutter\, to Little Chebeague Island for a cookout with lobster and clams!  (Those with dietary restrictions may bring hot dogs).  Day trip!…back in Portland in time to see the fireworks!  First born male child for lobster deposit or $20\, whichever is worth more.  Leaving the dock at 10 am in South Portland.  Text/call Dan Kidd  2*7 478 6835
URL:https://moac.org/event/july-4th-sail-lobster-bake/
CATEGORIES:Happy Hour/Dancing,Sailing/Boating
ATTACH;FMTTYPE=image/jpeg:https://moac.org/wp-content/uploads/PXL_20220626_2127014082.jpg
END:VEVENT
BEGIN:VEVENT
DTSTART;TZID=America/New_York:20220709T100000
DTEND;TZID=America/New_York:20220709T180000
DTSTAMP:20260424T153910
CREATED:20220707T152258Z
LAST-MODIFIED:20220708T213410Z
UID:10000574-1657360800-1657389600@moac.org
SUMMARY:Sail the Emily Jane!
DESCRIPTION:Day tripper….Weather looks good for a simple day sail in Casco Bay on the Emily Jane\, a 37′ Cutter (It’s a sailboat…but that sounds so nautical!)  Leaving 10:00 a.m. out of South Portland!  What could go wrong?  Well…seems my contact info disappeared…Dan Kidd 207four786835!
URL:https://moac.org/event/sail-the-emily-jane/
CATEGORIES:Sailing/Boating
ATTACH;FMTTYPE=image/jpeg:https://moac.org/wp-content/uploads/FB_IMG_1657306115287.jpg
END:VEVENT
BEGIN:VEVENT
DTSTART;TZID=America/New_York:20220715T133000
DTEND;TZID=America/New_York:20220715T170000
DTSTAMP:20260424T153910
CREATED:20220715T152802Z
LAST-MODIFIED:20220715T152842Z
UID:10000599-1657891800-1657904400@moac.org
SUMMARY:Short Sail Today!
DESCRIPTION:Let’s go for a short sale a few hours this afternoon on the Emily. Jane! \nCall/text Dan  2o7fourseven86835$
URL:https://moac.org/event/short-sail-today-2/
CATEGORIES:Sailing/Boating
ATTACH;FMTTYPE=image/jpeg:https://moac.org/wp-content/uploads/PXL_20220715_145042755-1.jpg
END:VEVENT
BEGIN:VEVENT
DTSTART;TZID=America/New_York:20220730T103000
DTEND;TZID=America/New_York:20220730T200000
DTSTAMP:20260424T153910
CREATED:20220721T021253Z
LAST-MODIFIED:20220727T001256Z
UID:10000503-1659177000-1659211200@moac.org
SUMMARY:SummerFest 2022
DESCRIPTION:SEBAGO LAKE STATE PARK\nSaturday\, July 30th – 10:30 AM until 8:00 PM (close of the park)\nIt is going to be a great day to get outside on the water and have some fun with your fabulous friends\, and always entertaining MOAC members!  In celebration we will have a variety of games and hopefully\, fun prizes.  Games may include trivia\, camping challenges and any other events for the amusement of the crowd and your Funmeister from years past\, Melissa Richter\, this year’s SummerFest coordinator.  MOAC will provide meat and vegetarian options for the grills. \nWe need lots of help to make this day a success\, so please sign up with our new “Sign up Genius” site at https://www.signupgenius.com/go/5080B48A4A623AAFA7-summer \nSchedule of Events: \n9:30 – Set up Crew arrives (all you early birds please sign up 🙂\n10:30 – MOAC membership flocks in\n11:00 – Trivia (if you have any MOAC trivia please share with Melissa)\n12:00 – Lunch starts (We still need Grill masters!). Best side dish and best desert contest\n2:00 – We open up the games with our pie eating contest (sign up during lunch)\n2:30 to 4:30 – Field and water games (with prize potential)\n5:00 – Prize drawings\n5:30 to 8:00 – Eat leftovers\, camp fires\, low volume songs\, stories and lore.  Note: Day use area gate is locked at 8pm. \nWhat to Bring:   \nA side dish to share\, beverage (note: alcoholic beverages are prohibited in the park)\, all of your beach gear\, and sneakers or hiking boots\, if you would like to participate in field games.  Don’t forget the sunblock and bug spray.  For your comfort\, bring a camp or beach chair to help with social distancing.  If you would like to bring paddle boards or kayaks\, that would make for some extra fun.  (Remember\, boats can only be launched in the nearby\, designated put-in area.  Thank you.) \nDirections: \nSebago Lake State Park\, The Group Picnic Shelter F in the Pine Grove group area. \nDay-use Entrance in Casco – take Route 302 in Casco to State Park Rd. to Park Access Rd. (Lat. 43.941989\, Lon. -70.546466) \nDay-use Fees for MOAC members and guests who are Maine residents: \n• FREE  under age 5 / age 65 and older \n• $6 Adults Ages 12-64 \n• $1 Ages 5-11 \nJoin in the fun for this wonderful one-day event\, a tradition since 1989.  We hope you are able to plan on seeing MOAC friends and meeting new members at SummerFest.  Families are welcome!  For any questions or help with the sign-up\, please call or text Melissa Richter at 207-450-9090. \nMelissa Richter – SummerFest Coordinator \nEileen Whynot – SummerFest Board Liaison
URL:https://moac.org/event/summerfest-2022/
CATEGORIES:Kayaking/Canoeing,Other/General,Sailing/Boating,Social,Walking
ATTACH;FMTTYPE=image/jpeg:https://moac.org/wp-content/uploads/Summerfest-4.jpeg
ORGANIZER;CN="MOAC":MAILTO:info@moac.org
END:VEVENT
END:VCALENDAR