BEGIN:VCALENDAR
VERSION:2.0
PRODID:-//MOAC - Maine Outdoor Adventure Club - ECPv6.15.12.1//NONSGML v1.0//EN
CALSCALE:GREGORIAN
METHOD:PUBLISH
X-WR-CALNAME:MOAC - Maine Outdoor Adventure Club
X-ORIGINAL-URL:https://moac.org
X-WR-CALDESC:Events for MOAC - Maine Outdoor Adventure Club
REFRESH-INTERVAL;VALUE=DURATION:PT1H
X-Robots-Tag:noindex
X-PUBLISHED-TTL:PT1H
BEGIN:VTIMEZONE
TZID:America/New_York
BEGIN:DAYLIGHT
TZOFFSETFROM:-0500
TZOFFSETTO:-0400
TZNAME:EDT
DTSTART:20230312T070000
END:DAYLIGHT
BEGIN:STANDARD
TZOFFSETFROM:-0400
TZOFFSETTO:-0500
TZNAME:EST
DTSTART:20231105T060000
END:STANDARD
BEGIN:DAYLIGHT
TZOFFSETFROM:-0500
TZOFFSETTO:-0400
TZNAME:EDT
DTSTART:20240310T070000
END:DAYLIGHT
BEGIN:STANDARD
TZOFFSETFROM:-0400
TZOFFSETTO:-0500
TZNAME:EST
DTSTART:20241103T060000
END:STANDARD
BEGIN:DAYLIGHT
TZOFFSETFROM:-0500
TZOFFSETTO:-0400
TZNAME:EDT
DTSTART:20250309T070000
END:DAYLIGHT
BEGIN:STANDARD
TZOFFSETFROM:-0400
TZOFFSETTO:-0500
TZNAME:EST
DTSTART:20251102T060000
END:STANDARD
END:VTIMEZONE
BEGIN:VEVENT
DTSTART;TZID=America/New_York:20240526T140000
DTEND;TZID=America/New_York:20240526T183000
DTSTAMP:20260422T033123
CREATED:20240520T164916Z
LAST-MODIFIED:20240523T201129Z
UID:10003205-1716732000-1716748200@moac.org
SUMMARY:Sailing Sunday 5/26
DESCRIPTION:This sail is now full. \nLet’s go sailing on S/V Beyond 2\, my Cape Dory 36 Sailboat\, moored in Falmouth. \nI plan to sail from 2-6ish in the afternoon\, and may stay out later to watch the sunset if people want. Please reply back with a brief description of your sailing experience\, whether you have been on my boat before\, and your cell phone and email for planning the carpool. Parking is $20/car for non-members\, so we should fit as many as possible in one car. My car is free as a member. Rain\, fog\, or strong winds will cancel this event\, so watch your email for updates. \nPlease Bring: \n\nWater\nSnacks to share\nGood close-toe non marking shoes (sneakers or closed-toe sandals are fine…no flip flops)\nLayers for outdoor activity\, including a warm sweater or jacket\nRain jacket\nSunglasses and sunscreen\nCash for parking
URL:https://moac.org/event/sailing-sunday-5-26/
CATEGORIES:Sailing/Boating
ATTACH;FMTTYPE=image/jpeg:https://moac.org/wp-content/uploads/Beyond-2-1-rotated.jpg
ORGANIZER;CN="Sarah":MAILTO:sarah.joness@gmail.com
END:VEVENT
END:VCALENDAR