BEGIN:VCALENDAR
VERSION:2.0
PRODID:-//MOAC - Maine Outdoor Adventure Club - ECPv6.15.12.1//NONSGML v1.0//EN
CALSCALE:GREGORIAN
METHOD:PUBLISH
X-WR-CALNAME:MOAC - Maine Outdoor Adventure Club
X-ORIGINAL-URL:https://moac.org
X-WR-CALDESC:Events for MOAC - Maine Outdoor Adventure Club
REFRESH-INTERVAL;VALUE=DURATION:PT1H
X-Robots-Tag:noindex
X-PUBLISHED-TTL:PT1H
BEGIN:VTIMEZONE
TZID:America/New_York
BEGIN:DAYLIGHT
TZOFFSETFROM:-0500
TZOFFSETTO:-0400
TZNAME:EDT
DTSTART:20230312T070000
END:DAYLIGHT
BEGIN:STANDARD
TZOFFSETFROM:-0400
TZOFFSETTO:-0500
TZNAME:EST
DTSTART:20231105T060000
END:STANDARD
BEGIN:DAYLIGHT
TZOFFSETFROM:-0500
TZOFFSETTO:-0400
TZNAME:EDT
DTSTART:20240310T070000
END:DAYLIGHT
BEGIN:STANDARD
TZOFFSETFROM:-0400
TZOFFSETTO:-0500
TZNAME:EST
DTSTART:20241103T060000
END:STANDARD
BEGIN:DAYLIGHT
TZOFFSETFROM:-0500
TZOFFSETTO:-0400
TZNAME:EDT
DTSTART:20250309T070000
END:DAYLIGHT
BEGIN:STANDARD
TZOFFSETFROM:-0400
TZOFFSETTO:-0500
TZNAME:EST
DTSTART:20251102T060000
END:STANDARD
BEGIN:DAYLIGHT
TZOFFSETFROM:-0500
TZOFFSETTO:-0400
TZNAME:EDT
DTSTART:20260308T070000
END:DAYLIGHT
BEGIN:STANDARD
TZOFFSETFROM:-0400
TZOFFSETTO:-0500
TZNAME:EST
DTSTART:20261101T060000
END:STANDARD
END:VTIMEZONE
BEGIN:VEVENT
DTSTART;TZID=America/New_York:20240720T143000
DTEND;TZID=America/New_York:20240720T203000
DTSTAMP:20260425T092928
CREATED:20240718T152152Z
LAST-MODIFIED:20240718T152152Z
UID:10003278-1721485800-1721507400@moac.org
SUMMARY:Saturday Sail
DESCRIPTION:Let’s meet in Falmouth and sail on Beyond II in Casco Bay. Bring a light rain jacket\, a swim suit and towel\, and healthy snacks and beverages to share. Closed toe shoes are safer on a boat and flip flops are a bad idea. If there’s wind\, we’ll sail around\,  and if there isn’t any wind\, we’ll drop a hook and find a beach. We’ll organize a carpool because Handyboat charges for parking. Please email me for more info. I can take 4 people.
URL:https://moac.org/event/saturday-sail/
CATEGORIES:Sailing/Boating
ATTACH;FMTTYPE=image/jpeg:https://moac.org/wp-content/uploads/20230903_094453_9586353410980573-1-rotated.jpg
ORGANIZER;CN="Sarah":MAILTO:sarah.joness@gmail.com
END:VEVENT
BEGIN:VEVENT
DTSTART;TZID=America/New_York:20240907T130000
DTEND;TZID=America/New_York:20240907T180000
DTSTAMP:20260425T092928
CREATED:20240905T161511Z
LAST-MODIFIED:20240905T161511Z
UID:10003721-1725714000-1725732000@moac.org
SUMMARY:Saturday Sail
DESCRIPTION:Meet at Handyboat at 1 pm and see where the afternoon takes us. Bring water\, snacks to share\, and warm layers. It gets cold fast this time of year. I have room for 4 people to join.
URL:https://moac.org/event/saturday-sail-2/
CATEGORIES:Sailing/Boating
ATTACH;FMTTYPE=image/jpeg:https://moac.org/wp-content/uploads/20240825_120328-rotated.jpg
ORGANIZER;CN="Sarah":MAILTO:sarah.joness@gmail.com
END:VEVENT
BEGIN:VEVENT
DTSTART;TZID=America/New_York:20240921T110000
DTEND;TZID=America/New_York:20240922T150000
DTSTAMP:20260425T092928
CREATED:20240917T165642Z
LAST-MODIFIED:20240918T130705Z
UID:10003737-1726916400-1727017200@moac.org
SUMMARY:Lobster bake and camping on Jewell Island
DESCRIPTION:Blue Glory II will be teaming up with the Emily Jane\, Dan Kidd’s boat\, to camp out on Jewell Island Saturday night.  Since my boat has limited berths bring your camping gear.  The weather looks good but it could get cold at night.  We will be cooking lobster and clams on the Island plus breakfast.  The food cost is $25\, cash up front is appreciated. Bring your favorite side dish or dessert to round out the feast. Text Art@207-332-2276 to sign up.
URL:https://moac.org/event/lobster-bake-and-camping-on-jewell-island/
CATEGORIES:Sailing/Boating
ORGANIZER;CN="Arthur Cornell":MAILTO:acornell@maine.rr.com
END:VEVENT
BEGIN:VEVENT
DTSTART;TZID=America/New_York:20250901T100000
DTEND;TZID=America/New_York:20250901T180000
DTSTAMP:20260425T092928
CREATED:20250830T164652Z
LAST-MODIFIED:20250830T164657Z
UID:10004139-1756720800-1756749600@moac.org
SUMMARY:Cruise and hike - Casco Bay
DESCRIPTION:Let’s take the labor out of Labor Day and cruise to Jewell Island aboard Blue Glory II.  She is a stout-hearted Maine built lobster style boat.  We leave Aspasia Marina in South Portland at 10:30 sharp and arrive at noon.  Hike the island and have a BBQ at one of the camp sites.  Bring your beverages and protein to grille.  I will provide everything needed to grill.  Bring beach shoes to deboat and a bathing suit if you are brave.  I will provide a cooler with ice. Text Art at 2o7-332-2276 to sign up. \n  \n 
URL:https://moac.org/event/cruise-and-hike-casco-bay/
CATEGORIES:Sailing/Boating
ATTACH;FMTTYPE=image/jpeg:https://moac.org/wp-content/uploads/6-1.jpg
ORGANIZER;CN="Arthur Cornell":MAILTO:acornell@maine.rr.com
END:VEVENT
BEGIN:VEVENT
DTSTART;TZID=America/New_York:20250920T103000
DTEND;TZID=America/New_York:20250920T180000
DTSTAMP:20260425T092928
CREATED:20250919T125451Z
LAST-MODIFIED:20250919T125451Z
UID:10004157-1758364200-1758391200@moac.org
SUMMARY:Cruise on Casco Bay and a lobster cookout
DESCRIPTION:Winter is coming\, let’s end the summer with a cruise on  Casco Bay aboard Blue Glory II.  We will be meet Dan Kidd’s sailboat at Little Chebeague Island for the lobster feast.  If you want a lobster see his post and reserve it with him. We will leave Aspasia Marina at 11 sharp\, Text Art at 207-332-2276 to sign up.
URL:https://moac.org/event/cruise-on-casco-bay-and-a-lobster-cookout/
CATEGORIES:Sailing/Boating
ATTACH;FMTTYPE=image/jpeg:https://moac.org/wp-content/uploads/At-Anchor-Jewell-1.jpg
ORGANIZER;CN="Arthur Cornell":MAILTO:acornell@maine.rr.com
END:VEVENT
END:VCALENDAR