BEGIN:VCALENDAR
VERSION:2.0
PRODID:-//MOAC - Maine Outdoor Adventure Club - ECPv6.15.12.1//NONSGML v1.0//EN
CALSCALE:GREGORIAN
METHOD:PUBLISH
X-WR-CALNAME:MOAC - Maine Outdoor Adventure Club
X-ORIGINAL-URL:https://moac.org
X-WR-CALDESC:Events for MOAC - Maine Outdoor Adventure Club
REFRESH-INTERVAL;VALUE=DURATION:PT1H
X-Robots-Tag:noindex
X-PUBLISHED-TTL:PT1H
BEGIN:VTIMEZONE
TZID:America/New_York
BEGIN:DAYLIGHT
TZOFFSETFROM:-0500
TZOFFSETTO:-0400
TZNAME:EDT
DTSTART:20230312T070000
END:DAYLIGHT
BEGIN:STANDARD
TZOFFSETFROM:-0400
TZOFFSETTO:-0500
TZNAME:EST
DTSTART:20231105T060000
END:STANDARD
BEGIN:DAYLIGHT
TZOFFSETFROM:-0500
TZOFFSETTO:-0400
TZNAME:EDT
DTSTART:20240310T070000
END:DAYLIGHT
BEGIN:STANDARD
TZOFFSETFROM:-0400
TZOFFSETTO:-0500
TZNAME:EST
DTSTART:20241103T060000
END:STANDARD
BEGIN:DAYLIGHT
TZOFFSETFROM:-0500
TZOFFSETTO:-0400
TZNAME:EDT
DTSTART:20250309T070000
END:DAYLIGHT
BEGIN:STANDARD
TZOFFSETFROM:-0400
TZOFFSETTO:-0500
TZNAME:EST
DTSTART:20251102T060000
END:STANDARD
END:VTIMEZONE
BEGIN:VEVENT
DTSTART;TZID=America/New_York:20240726T173000
DTEND;TZID=America/New_York:20240726T200000
DTSTAMP:20260423T200441
CREATED:20240725T165541Z
LAST-MODIFIED:20240725T172919Z
UID:10003285-1722015000-1722024000@moac.org
SUMMARY:Happy Hour at Salty Bay Seaside Restaurant
DESCRIPTION:HAPPY HOUR this Friday will be at the SALTY BAY SEASIDE RESTAURANT located at 58 Jones Creek Drive at Pine Point. Full bar\, very good seafood\, picnic tables on lawn abutting the water. Free parking in their own lot and along the street.
URL:https://moac.org/event/happy-hour-at-salty-bay-seaside-restaurant/
CATEGORIES:Social
ORGANIZER;CN="Tom Geis":MAILTO:tomjgeis@hotmail.com
END:VEVENT
BEGIN:VEVENT
DTSTART;TZID=America/New_York:20240726T180000
DTEND;TZID=America/New_York:20240726T200000
DTSTAMP:20260423T200441
CREATED:20240725T003724Z
LAST-MODIFIED:20240725T003724Z
UID:10003284-1722016800-1722024000@moac.org
SUMMARY:Two New Members Needed for our Patty Party - Summerfest Prep
DESCRIPTION:Join us for a fun time prepping for our Saturday Summerfest on Friday night! New members can learn what a fun group we are\, especially by stepping up. I will provide pizza and salad after the work is down.  BYOB FMI and to line up contact: ellejohnson84@gmail.com
URL:https://moac.org/event/two-new-members-needed-for-our-patty-party-summerfest-prep/
CATEGORIES:Social
ORGANIZER;CN="Linda Johnson":MAILTO:linda@bookkeepingsimply.com
END:VEVENT
BEGIN:VEVENT
DTSTART;TZID=America/New_York:20240727T093000
DTEND;TZID=America/New_York:20240727T160000
DTSTAMP:20260423T200441
CREATED:20240725T194144Z
LAST-MODIFIED:20240725T194144Z
UID:10003288-1722072600-1722096000@moac.org
SUMMARY:2024 SummerFest Raffle Prize Contest
DESCRIPTION:Five Prizes in the following categories:\n1. Travel\n2. Water Sports\n3. “Maine”\n4. Camping\n5. Book with an outdoor theme \nWAYS TO WIN\n \nPotluck Food Contest\n1. Best Salad\n2. Best Non-Salad\n3. Best Fruit Dessert\n4. Best Chocolate Dessert \nEarn Raffle Tickets\n1)  Tix by Attending SummerFest\n5)  Tixs by Volunteering at SummerFest (sign up ahead appreciated)\n5)  Tixs Per Food Category Winner\n10)Tixs by Leading an Activity \nDrawings take place at 4:00 PM.  Must be present to win or give your tixs to a friend to claim your prize(s). \nEileen Whynot\, Volunteer Chair\, Raffle Prize Contest\nLed by Board of Directors\nemail:  board@moac.org\nLocation: Range Pond State Park
URL:https://moac.org/event/2024-summerfest-raffle-prize-contest/
CATEGORIES:Social
ORGANIZER;CN="MOAC":MAILTO:info@moac.org
END:VEVENT
END:VCALENDAR