BEGIN:VCALENDAR
VERSION:2.0
PRODID:-//MOAC - Maine Outdoor Adventure Club - ECPv6.15.12.1//NONSGML v1.0//EN
CALSCALE:GREGORIAN
METHOD:PUBLISH
X-ORIGINAL-URL:https://moac.org
X-WR-CALDESC:Events for MOAC - Maine Outdoor Adventure Club
REFRESH-INTERVAL;VALUE=DURATION:PT1H
X-Robots-Tag:noindex
X-PUBLISHED-TTL:PT1H
BEGIN:VTIMEZONE
TZID:America/New_York
BEGIN:DAYLIGHT
TZOFFSETFROM:-0500
TZOFFSETTO:-0400
TZNAME:EDT
DTSTART:20230312T070000
END:DAYLIGHT
BEGIN:STANDARD
TZOFFSETFROM:-0400
TZOFFSETTO:-0500
TZNAME:EST
DTSTART:20231105T060000
END:STANDARD
BEGIN:DAYLIGHT
TZOFFSETFROM:-0500
TZOFFSETTO:-0400
TZNAME:EDT
DTSTART:20240310T070000
END:DAYLIGHT
BEGIN:STANDARD
TZOFFSETFROM:-0400
TZOFFSETTO:-0500
TZNAME:EST
DTSTART:20241103T060000
END:STANDARD
BEGIN:DAYLIGHT
TZOFFSETFROM:-0500
TZOFFSETTO:-0400
TZNAME:EDT
DTSTART:20250309T070000
END:DAYLIGHT
BEGIN:STANDARD
TZOFFSETFROM:-0400
TZOFFSETTO:-0500
TZNAME:EST
DTSTART:20251102T060000
END:STANDARD
END:VTIMEZONE
BEGIN:VEVENT
DTSTART;TZID=America/New_York:20241102T080000
DTEND;TZID=America/New_York:20241102T130000
DTSTAMP:20260423T144819
CREATED:20241025T145717Z
LAST-MODIFIED:20241025T152258Z
UID:10003745-1730534400-1730552400@moac.org
SUMMARY:Take Pride in Acadia Day\, 2024 - Registration is closed
DESCRIPTION:For 33 years\, volunteers have gathered on the first Saturday of November to help ready the famous carriage roads for winter. Sponsored by Friends of Acadia\, teams are assigned troublesome sections of carriage roads where erosion can cause damage over the winter. The task? Rake the leaves and debris off the shoulders and into the woods. MOAC has had members at this event for many years. We have a team that will work together. \nIf you follow the Friends of Acadia link above\, there will be information about how to sign up for the event. PLEASE do not do that. Since we are working as a group\, use the sign up link below so I can keep track. I will submit our roster of names to Friends. \nPlease click HERE to sign up. Your email is so we can communicate before the weekend. Your phone number so we can as well during the weekend. \nMost who sign up make it a weekend\, but that is not required. The actual commitment to the park is from roughly 8:30 am to noon on Saturday. If you choose to make it a weekend\, the rest of the time is yours. \nThere is no cost to the event itself. If you choose to stay over\, you will need to find your own lodging. Tam and I are staying at the Bar Harbor Grand Hotel\, right in downtown and that has been the hotel of choice for the most part for a few years now. But\, you can do as you wish in this regard. The Grand offers a free breakfast. Local restaurants for the rest. \nExcept for the provided lunch after the work Saturday. After our work commitment is done\, we can head over to the Hulls Cove Visitors Center for a “CCC” lunch. Chili\, cornbread\, and cider.  Aside from the ingredients\, it’s named to honor the Civilian Conservation Corp\, who did a lot of work in Acadia.
URL:https://moac.org/event/take-pride-in-acadia-day-2024/
CATEGORIES:Happy Hour/Dancing,Hiking,Mountain Biking,Other/General,Road Biking,Social,Walking
ATTACH;FMTTYPE=image/jpeg:https://moac.org/wp-content/uploads/Take-Pride-2.jpeg
ORGANIZER;CN="Peter Mullen":MAILTO:pcm25me@gmail.com
END:VEVENT
BEGIN:VEVENT
DTSTART;VALUE=DATE:20241106
DTEND;VALUE=DATE:20241205
DTSTAMP:20260423T144819
CREATED:20241106T175655Z
LAST-MODIFIED:20241114T024120Z
UID:10003772-1730851200-1733356799@moac.org
SUMMARY:MOAC Holiday Party 2024 – Tickets on Sale
DESCRIPTION:2024 Holiday Party Tickets NOW on Sale through Eventbrite\n\nNovember 6\, 2024 – December 4\, 2024\n\n\n\nHOT DEAL now available!  Get your tickets at \nhttps://www.eventbrite.com/e/moac-holiday-party-2024-members-only-tickets-1074692055869\nBARGAIN at $12.00 for prepurchase through Eventbrite (member pays for Eventbrite fee) \nAnother MOAC Party not to be missed.  December 7\, 2024 from 5:30 to 11:00. \nSale price available only through December 4th.  Price at the door is $15.00. \nOnce again we will party at the Robert W Boyd\, AMVETS Post 2\, 48 North Road\, Yarmouth\, ME.
URL:https://moac.org/event/moac-holiday-party-2024/
CATEGORIES:Happy Hour/Dancing,Other/General,Social
ORGANIZER;CN="Elaine M Vadeboncoeur":MAILTO:evadeboncoeur@gmail.com
END:VEVENT
BEGIN:VEVENT
DTSTART;TZID=America/New_York:20241115T153000
DTEND;TZID=America/New_York:20241115T210000
DTSTAMP:20260423T144819
CREATED:20241111T204214Z
LAST-MODIFIED:20241114T010224Z
UID:10003775-1731684600-1731704400@moac.org
SUMMARY:SnowBound Expo in Boston – Fri Nov 15 thru Sun Nov 17
DESCRIPTION:SnowBound Expo Details: \n\nExhibitors\nResorts\nRetail Offers\nSpeakers\nSchedule\n\nComplementary tickets to SnowBound Expo seem to abound this year.  But if you have not yet scored freebie tickets to Snowbound Expo\, use the link below which uses Tix code DDANCAUSE \nhttps://snowboundexpo.seetickets.com/event/snowbound-expo-2024/boston-convention-exhibition-center/2926543?OfferCode=DDANCAUSE \nDates and Times: \n3:30pm – 9pm Friday November 15th\n10am – 7pm Saturday November 16th\n10am – 4pm Sunday November 17th \nAlternatives to driving:   Downeaster Train to North Station  Senior rate is ~$16;    Concord Coach to S. Station: Adult $27.00 \nShould you wish to overnight in Boston\, possible places to stay:  Aloft Boston Seaport @$130/night (Friday 11/15)   Hi Boston (~$140) \nIf wishing to meetup with other MOACers contact Dave for possible meetup locations.  either at the show\, or nearby pubs like Trillium & Lord Hobo
URL:https://moac.org/event/snowbound-expo-in-boston-fri-nov-thru-sun-nov-17/
LOCATION:Boston Convention and Exhibition Center\, 415 Summer Street\, Boston\, M\, 02210\, United States
CATEGORIES:Social
ATTACH;FMTTYPE=image/png:https://moac.org/wp-content/uploads/Snowboundexpo-logo.png
ORGANIZER;CN="David Dancause":MAILTO:dave.dancause@gmail.com
END:VEVENT
END:VCALENDAR