BEGIN:VCALENDAR
VERSION:2.0
PRODID:-//MOAC - Maine Outdoor Adventure Club - ECPv6.15.12.1//NONSGML v1.0//EN
CALSCALE:GREGORIAN
METHOD:PUBLISH
X-ORIGINAL-URL:https://moac.org
X-WR-CALDESC:Events for MOAC - Maine Outdoor Adventure Club
REFRESH-INTERVAL;VALUE=DURATION:PT1H
X-Robots-Tag:noindex
X-PUBLISHED-TTL:PT1H
BEGIN:VTIMEZONE
TZID:America/New_York
BEGIN:DAYLIGHT
TZOFFSETFROM:-0500
TZOFFSETTO:-0400
TZNAME:EDT
DTSTART:20230312T070000
END:DAYLIGHT
BEGIN:STANDARD
TZOFFSETFROM:-0400
TZOFFSETTO:-0500
TZNAME:EST
DTSTART:20231105T060000
END:STANDARD
BEGIN:DAYLIGHT
TZOFFSETFROM:-0500
TZOFFSETTO:-0400
TZNAME:EDT
DTSTART:20240310T070000
END:DAYLIGHT
BEGIN:STANDARD
TZOFFSETFROM:-0400
TZOFFSETTO:-0500
TZNAME:EST
DTSTART:20241103T060000
END:STANDARD
BEGIN:DAYLIGHT
TZOFFSETFROM:-0500
TZOFFSETTO:-0400
TZNAME:EDT
DTSTART:20250309T070000
END:DAYLIGHT
BEGIN:STANDARD
TZOFFSETFROM:-0400
TZOFFSETTO:-0500
TZNAME:EST
DTSTART:20251102T060000
END:STANDARD
END:VTIMEZONE
BEGIN:VEVENT
DTSTART;VALUE=DATE:20240309
DTEND;VALUE=DATE:20240310
DTSTAMP:20260424T081343
CREATED:20240205T165709Z
LAST-MODIFIED:20240205T165709Z
UID:10001281-1709942400-1710028799@moac.org
SUMMARY:WinterFest 24
DESCRIPTION:  \nMOAC is excited to host this year’s Winterfest on March 9th 11am – sunset\, which will be presented at Orchard Ridge Farm at 236 Sebago Lake Rd\, Gorham\, Maine!  \nThis year’s activities will include: \n -A classic chili/soup cookoff with prizes awarded to the volunteers bringing the top three dishes.  \n– Yard-games & brews (please see below).  \n-A full menu of food/drink is available for purchase at the venue.  \n-Free hot cocoa/Coffee/tea. \n-Join us skiing/ snowshoeing along the adjacent Mountain Division Trail. \n-Enjoy warming up by the firepit. \n-Volunteer led winter events. \n  \nJoin us for a great afternoon!
URL:https://moac.org/event/winterfest-24/
CATEGORIES:Skiing-XC/Classic/Skate,Snowshoeing,Social
ATTACH;FMTTYPE=image/png:https://moac.org/wp-content/uploads/draft.png
ORGANIZER;CN="Josh Soucy":MAILTO:Soucyjoshua@gmail.com
END:VEVENT
BEGIN:VEVENT
DTSTART;TZID=America/New_York:20240309T130000
DTEND;TZID=America/New_York:20240309T143000
DTSTAMP:20260424T081343
CREATED:20240304T032846Z
LAST-MODIFIED:20240304T032846Z
UID:10001310-1709989200-1709994600@moac.org
SUMMARY:Winterfest Outing - Bike via back roads to Babb's Covered Bridge / walk The Mountain Division Trail
DESCRIPTION:This is an outing during “Winter”fest. Looks like we won’t be having a storm before Winterfest\, in lieu of snow shoeing and skiing\, we have a bike trip planned to Babb’s Covered Bridge (2.4 miles away from the farm) so bring a bike! If a group would rather walk a portion of The Mountain Division Trail\, the trail is still icy (proof that\, yes\, we did have winter!). Please bring spikes if you take that route.
URL:https://moac.org/event/winterfest-outing-bike-via-back-roads-to-babbs-covered-bridge-walk-the-mountain-division-trail/
CATEGORIES:Road Biking,Social,Walking
ATTACH;FMTTYPE=image/jpeg:https://moac.org/wp-content/uploads/40143301845_d8dfc8b64a_b.jpg
ORGANIZER;CN="Josh Soucy":MAILTO:Soucyjoshua@gmail.com
END:VEVENT
END:VCALENDAR