BEGIN:VCALENDAR
VERSION:2.0
PRODID:-//MOAC - Maine Outdoor Adventure Club - ECPv6.15.12.1//NONSGML v1.0//EN
CALSCALE:GREGORIAN
METHOD:PUBLISH
X-WR-CALNAME:MOAC - Maine Outdoor Adventure Club
X-ORIGINAL-URL:https://moac.org
X-WR-CALDESC:Events for MOAC - Maine Outdoor Adventure Club
REFRESH-INTERVAL;VALUE=DURATION:PT1H
X-Robots-Tag:noindex
X-PUBLISHED-TTL:PT1H
BEGIN:VTIMEZONE
TZID:America/New_York
BEGIN:DAYLIGHT
TZOFFSETFROM:-0500
TZOFFSETTO:-0400
TZNAME:EDT
DTSTART:20230312T070000
END:DAYLIGHT
BEGIN:STANDARD
TZOFFSETFROM:-0400
TZOFFSETTO:-0500
TZNAME:EST
DTSTART:20231105T060000
END:STANDARD
BEGIN:DAYLIGHT
TZOFFSETFROM:-0500
TZOFFSETTO:-0400
TZNAME:EDT
DTSTART:20240310T070000
END:DAYLIGHT
BEGIN:STANDARD
TZOFFSETFROM:-0400
TZOFFSETTO:-0500
TZNAME:EST
DTSTART:20241103T060000
END:STANDARD
BEGIN:DAYLIGHT
TZOFFSETFROM:-0500
TZOFFSETTO:-0400
TZNAME:EDT
DTSTART:20250309T070000
END:DAYLIGHT
BEGIN:STANDARD
TZOFFSETFROM:-0400
TZOFFSETTO:-0500
TZNAME:EST
DTSTART:20251102T060000
END:STANDARD
END:VTIMEZONE
BEGIN:VEVENT
DTSTART;TZID=America/New_York:20240513T180000
DTEND;TZID=America/New_York:20240513T200000
DTSTAMP:20260424T023839
CREATED:20240427T001950Z
LAST-MODIFIED:20240427T001950Z
UID:10003178-1715623200-1715630400@moac.org
SUMMARY:Art Exhibit Opening Reception
DESCRIPTION:After a very long hiatus\, Phil Poirier (an original MOAC member) will be having an art exhibit at Coffee by Design\, India street\, Portland. The exhibit will run from May 13 to June 23\, with an opening reception May 13\, from 6-9PM. \nHere is a sneak preview
URL:https://moac.org/event/art-exhibit-opening-reception/
CATEGORIES:Social
ATTACH;FMTTYPE=image/jpeg:https://moac.org/wp-content/uploads/438848333_10231135529268803_4795488665236984285_n.jpg
ORGANIZER;CN="Phil Poirier":MAILTO:philpoi@gmail.com
END:VEVENT
END:VCALENDAR