BEGIN:VCALENDAR
VERSION:2.0
PRODID:-//MOAC - Maine Outdoor Adventure Club - ECPv6.15.12.1//NONSGML v1.0//EN
CALSCALE:GREGORIAN
METHOD:PUBLISH
X-ORIGINAL-URL:https://moac.org
X-WR-CALDESC:Events for MOAC - Maine Outdoor Adventure Club
REFRESH-INTERVAL;VALUE=DURATION:PT1H
X-Robots-Tag:noindex
X-PUBLISHED-TTL:PT1H
BEGIN:VTIMEZONE
TZID:America/New_York
BEGIN:DAYLIGHT
TZOFFSETFROM:-0500
TZOFFSETTO:-0400
TZNAME:EDT
DTSTART:20230312T070000
END:DAYLIGHT
BEGIN:STANDARD
TZOFFSETFROM:-0400
TZOFFSETTO:-0500
TZNAME:EST
DTSTART:20231105T060000
END:STANDARD
BEGIN:DAYLIGHT
TZOFFSETFROM:-0500
TZOFFSETTO:-0400
TZNAME:EDT
DTSTART:20240310T070000
END:DAYLIGHT
BEGIN:STANDARD
TZOFFSETFROM:-0400
TZOFFSETTO:-0500
TZNAME:EST
DTSTART:20241103T060000
END:STANDARD
BEGIN:DAYLIGHT
TZOFFSETFROM:-0500
TZOFFSETTO:-0400
TZNAME:EDT
DTSTART:20250309T070000
END:DAYLIGHT
BEGIN:STANDARD
TZOFFSETFROM:-0400
TZOFFSETTO:-0500
TZNAME:EST
DTSTART:20251102T060000
END:STANDARD
END:VTIMEZONE
BEGIN:VEVENT
DTSTART;TZID=America/New_York:20240904T183000
DTEND;TZID=America/New_York:20240904T203000
DTSTAMP:20260423T200927
CREATED:20240827T155833Z
LAST-MODIFIED:20240827T163931Z
UID:10003710-1725474600-1725481800@moac.org
SUMMARY:MOAC Monthly Meeting & Presentation
DESCRIPTION:Local Cyclist Invented the “Survue” to Alert Cyclists to Vehicles Approaching from the Rear\nOne of our two guests\, Josh Fox\, an engineer and cyclist\, felt trapped with tall curbs and zooming traffic several years ago\, so decided it was too risky to trailer his daughter when riding. “I started by just taking my phone and literally duct-taping it to my bike\, recording a video\, and running it through an open-source algorithm to see what happens\,” Fox says. “The algorithms grew more and more efficient in pinpointing the location of a vehicle and predicting its future movements. The battery got better and smaller\, so the device was eventually small enough that a cyclist would be willing to stick it on their bike.” \nMOAC Group Cycles the Lamoille Valley Rail Trail\nPat Coon organized a five-night camping and biking trip in Vermont in June 2024. From Pat\, “I’ve biked since I was a kid. When I was in college I learned to fix bikes and started commuting from Amherst to Northampton\, and taking longer adventures\, across Massachusetts then from Boston to Florida. Then I was a bike courier in Chicago for a winter. That was fun. I lived for years without a car in Maine and biked everywhere. As I got older I got out of it\, I think there were two summers when I didn’t have a functional bike. Then about three years ago\, I got back in. First with electric bikes\, then analog. I started doing some bike touring\, and I discovered the Lamoille Valley Rail Trail\, roughly a 150-mile\, (3-4% incline) flat ride from Burlington to St. Johnsbury\, Vermont.” \nIn preparation\, Pat posted multiple bike rides around South Portland that he called\, “Bug to Barrel\,” from Bug Light to Barrelled Souls\, a brewery. Each ride included parts of the Eastern Trail\, roads around SoPo\, Cape and Scarborough. The final “shakedown” ride was 40 miles\, fully loaded with touring gear. \nBike adventures are a challenge of logistics\, of mechanics\, of endurance\, and of spirit. Come see and hear how the group had a super duper trip! \n___________________ \nIn addition to the presentations\, the meeting is a chance to hear about recent outings\, hear about upcoming outings\, and socialize with other MOACers. It’s also a chance for new or prospective members to ask questions. Meeting begins at 7:00\, but come at 6:30 to socialize and meet people. \nLocation: the Allen Avenue Unitarian Universalist Church\, 524 Allen Avenue\, Portland (near Northgate Shopping Plaza). Here’s a Google Map link. \n 
URL:https://moac.org/event/moac-monthly-meeting-presentation/
CATEGORIES:Social
ATTACH;FMTTYPE=image/jpeg:https://moac.org/wp-content/uploads/MOAC-Bikers-1.jpg
ORGANIZER;CN="MOAC":MAILTO:info@moac.org
END:VEVENT
END:VCALENDAR