BEGIN:VCALENDAR
VERSION:2.0
PRODID:-//MOAC - Maine Outdoor Adventure Club - ECPv6.15.12.1//NONSGML v1.0//EN
CALSCALE:GREGORIAN
METHOD:PUBLISH
X-WR-CALNAME:MOAC - Maine Outdoor Adventure Club
X-ORIGINAL-URL:https://moac.org
X-WR-CALDESC:Events for MOAC - Maine Outdoor Adventure Club
REFRESH-INTERVAL;VALUE=DURATION:PT1H
X-Robots-Tag:noindex
X-PUBLISHED-TTL:PT1H
BEGIN:VTIMEZONE
TZID:America/New_York
BEGIN:DAYLIGHT
TZOFFSETFROM:-0500
TZOFFSETTO:-0400
TZNAME:EDT
DTSTART:20230312T070000
END:DAYLIGHT
BEGIN:STANDARD
TZOFFSETFROM:-0400
TZOFFSETTO:-0500
TZNAME:EST
DTSTART:20231105T060000
END:STANDARD
BEGIN:DAYLIGHT
TZOFFSETFROM:-0500
TZOFFSETTO:-0400
TZNAME:EDT
DTSTART:20240310T070000
END:DAYLIGHT
BEGIN:STANDARD
TZOFFSETFROM:-0400
TZOFFSETTO:-0500
TZNAME:EST
DTSTART:20241103T060000
END:STANDARD
BEGIN:DAYLIGHT
TZOFFSETFROM:-0500
TZOFFSETTO:-0400
TZNAME:EDT
DTSTART:20250309T070000
END:DAYLIGHT
BEGIN:STANDARD
TZOFFSETFROM:-0400
TZOFFSETTO:-0500
TZNAME:EST
DTSTART:20251102T060000
END:STANDARD
END:VTIMEZONE
BEGIN:VEVENT
DTSTART;TZID=America/New_York:20241206T190000
DTEND;TZID=America/New_York:20241206T203000
DTSTAMP:20260423T160900
CREATED:20241122T093649Z
LAST-MODIFIED:20241122T093649Z
UID:10003787-1733511600-1733517000@moac.org
SUMMARY:Portland Community Chorus Holiday Concert
DESCRIPTION:Kick off your holiday season with a Portland Community Chorus holiday concert! Mark your calendars\, make a plan with friends and family\, and don’t miss this year’s PCC concert! This is a “leaderless” event\, since I’ll be on the risers singing with dozens of my chorus friends. We’ll be singing on the theme of “Purpose”.  It’s powerful in person! Invite a friend or two and come on out to one of 2 shows at South Portland High School auditorium \n* Friday\,  December 6th at 7:00 pm\n* Saturday\, December 7th at 2:00 pm\n\nEntrance by donation. Give what you can! (Suggested donation of $15. Kids under 12 FREE.) To donate go to: https://www.portlandcommunitychorus.org/events.html\nOr pay at the door.\n\n\nSupport your local arts and artists (like me!) and share the love of music this holiday season! I’d love to see your bright\, MOAC faces in the audience.
URL:https://moac.org/event/portland-community-chorus-holiday-concert-5/
CATEGORIES:Social
ATTACH;FMTTYPE=image/jpeg:https://moac.org/wp-content/uploads/FB_IMG_1732267045049.jpg
ORGANIZER;CN="Cathy Conroy":MAILTO:Cconroy@maine.rr.com
END:VEVENT
END:VCALENDAR