BEGIN:VCALENDAR
VERSION:2.0
PRODID:-//MOAC - Maine Outdoor Adventure Club - ECPv6.15.12.1//NONSGML v1.0//EN
CALSCALE:GREGORIAN
METHOD:PUBLISH
X-WR-CALNAME:MOAC - Maine Outdoor Adventure Club
X-ORIGINAL-URL:https://moac.org
X-WR-CALDESC:Events for MOAC - Maine Outdoor Adventure Club
REFRESH-INTERVAL;VALUE=DURATION:PT1H
X-Robots-Tag:noindex
X-PUBLISHED-TTL:PT1H
BEGIN:VTIMEZONE
TZID:America/New_York
BEGIN:DAYLIGHT
TZOFFSETFROM:-0500
TZOFFSETTO:-0400
TZNAME:EDT
DTSTART:20240310T070000
END:DAYLIGHT
BEGIN:STANDARD
TZOFFSETFROM:-0400
TZOFFSETTO:-0500
TZNAME:EST
DTSTART:20241103T060000
END:STANDARD
BEGIN:DAYLIGHT
TZOFFSETFROM:-0500
TZOFFSETTO:-0400
TZNAME:EDT
DTSTART:20250309T070000
END:DAYLIGHT
BEGIN:STANDARD
TZOFFSETFROM:-0400
TZOFFSETTO:-0500
TZNAME:EST
DTSTART:20251102T060000
END:STANDARD
BEGIN:DAYLIGHT
TZOFFSETFROM:-0500
TZOFFSETTO:-0400
TZNAME:EDT
DTSTART:20260308T070000
END:DAYLIGHT
BEGIN:STANDARD
TZOFFSETFROM:-0400
TZOFFSETTO:-0500
TZNAME:EST
DTSTART:20261101T060000
END:STANDARD
END:VTIMEZONE
BEGIN:VEVENT
DTSTART;TZID=America/New_York:20250510T110000
DTEND;TZID=America/New_York:20250510T143000
DTSTAMP:20260420T124313
CREATED:20250502T190248Z
LAST-MODIFIED:20250510T040428Z
UID:10003988-1746874800-1746887400@moac.org
SUMMARY:Long Walk at Laudholm Farm & Wells Reserve
DESCRIPTION:Celebrate spring in a beautiful place!  New member Betsy Anderson\, who lives near Wells Reserve\, will take us on trails through marsh\, beach and fields for about 4 miles  to catch up on the changes that spring brings to this estuary.    Please contact Betsy by text or phone at 207-450-6584 to let her know to expect you.  Eileen will be traveling from Buxton\, so Scarborugh or Saco meet-up locations will work for carpooling.  Contact Eileen for carpooling 207-749-0211.  Take precautions re: ticks and bring water and a lunch or snacks.  Sorry\, no dogs allowed due to fragile land and nesting birds and wildlife.  We will go out to socialize and for food/drink after the walk for those who wish.\nMEET in the public parking area at 342 Laudholm Farm Road\, Wells\, Maine.  We will gather at the kiosk at the East edge of the parking area\, by the new “Welcome Hut.”\nSustained heavy rain will cancel\, and we will plan to reschedule.
URL:https://moac.org/event/long-walk-at-laudholm-farm-wells-reserve/
CATEGORIES:Walking
ATTACH;FMTTYPE=image/jpeg:https://moac.org/wp-content/uploads/trailmapLaudholm.jpg
ORGANIZER;CN="Eileen Whynot":MAILTO:ewhynote@gmail.com
END:VEVENT
BEGIN:VEVENT
DTSTART;TZID=America/New_York:20250514T173000
DTEND;TZID=America/New_York:20250514T190000
DTSTAMP:20260420T124313
CREATED:20250510T225707Z
LAST-MODIFIED:20250510T225707Z
UID:10004003-1747243800-1747249200@moac.org
SUMMARY:Back Cove Walk--Portland
DESCRIPTION:Join me in walking the Back Cove.  Distance is 3.5 miles.  Meet at 5:30 across from Hannaford’s in front of the TempoArt of the Egrets.
URL:https://moac.org/event/back-cove-walk-portland-3/
CATEGORIES:Walking
ORGANIZER;CN="Bonnie Farrand":MAILTO:Bonniefarrand@gmail.com
END:VEVENT
BEGIN:VEVENT
DTSTART;TZID=America/New_York:20250523T130000
DTEND;TZID=America/New_York:20250526T120000
DTSTAMP:20260420T124313
CREATED:20250322T165537Z
LAST-MODIFIED:20250323T133255Z
UID:10003963-1748005200-1748260800@moac.org
SUMMARY:Memorial Day Weekend Camping in Bar Harbor
DESCRIPTION:Let’s keep a long-standing MOAC tradition alive by welcoming summer with a group campout on Mt. Desert Island. It’s getting harder to do but I think this will work. \nFor those wondering\, Bonnie has family obligations and said she isn’t going to post this trip this year. \nA check of both Seawall and Blackwoods in Acadia National Park show pretty much sold out already. \nAs of 3/22/25\, Hadley’s Point Campground has 29 tent sites and 28 water/electric sites available. This is according to their website. Hadley’s Point is just off Route 3 as you head to Bar Harbor. It is 2.5 miles before Bar Harbor Campground. \n\nField tent sites are $36.08 per night\nWooded tent sites are $38.08 per night\nSites with water/electric are $53.08 per night\n\nThere appears to be a $3.25 campground fee\, plus tax of course. \nTammy and I have reserved site C-39 (water and electric) and it is near to a pod of tent sites (13-20\, 30-36\, 40-42). \nIf you choose to go\, please drop us a line at pcm25me@gmail.com so we know who to expect. \nYou do have to make your own reservations. Deposit amounts vary. For 1-2 nights\, it is the full balance. For 3 or more it is $100. Unfortunately\, they state there are no refunds for a holiday weekend. \nIt might be best to grab a site as soon as you can if you are interested. \nWe will continue the traditional experience of group happy hours and pot luck dinners on Saturday and Sunday evenings in one area to be determined to be the group hangout. Activities during the day will be up to the group. Hiking\, biking\, paddling\, etc.
URL:https://moac.org/event/memorial-day-weekend-camping-in-bar-harbor/
CATEGORIES:Camping,Hiking,Kayaking/Canoeing,Mountain Biking,Other/General,Social,Walking
ATTACH;FMTTYPE=image/png:https://moac.org/wp-content/uploads/Screenshot-2025-03-22-at-12.52.49 PM.png
ORGANIZER;CN="Peter Mullen":MAILTO:pcm25me@gmail.com
END:VEVENT
END:VCALENDAR