BEGIN:VCALENDAR
VERSION:2.0
PRODID:-//MOAC - Maine Outdoor Adventure Club - ECPv6.15.12.1//NONSGML v1.0//EN
CALSCALE:GREGORIAN
METHOD:PUBLISH
X-ORIGINAL-URL:https://moac.org
X-WR-CALDESC:Events for MOAC - Maine Outdoor Adventure Club
REFRESH-INTERVAL;VALUE=DURATION:PT1H
X-Robots-Tag:noindex
X-PUBLISHED-TTL:PT1H
BEGIN:VTIMEZONE
TZID:America/New_York
BEGIN:DAYLIGHT
TZOFFSETFROM:-0500
TZOFFSETTO:-0400
TZNAME:EDT
DTSTART:20240310T070000
END:DAYLIGHT
BEGIN:STANDARD
TZOFFSETFROM:-0400
TZOFFSETTO:-0500
TZNAME:EST
DTSTART:20241103T060000
END:STANDARD
BEGIN:DAYLIGHT
TZOFFSETFROM:-0500
TZOFFSETTO:-0400
TZNAME:EDT
DTSTART:20250309T070000
END:DAYLIGHT
BEGIN:STANDARD
TZOFFSETFROM:-0400
TZOFFSETTO:-0500
TZNAME:EST
DTSTART:20251102T060000
END:STANDARD
BEGIN:DAYLIGHT
TZOFFSETFROM:-0500
TZOFFSETTO:-0400
TZNAME:EDT
DTSTART:20260308T070000
END:DAYLIGHT
BEGIN:STANDARD
TZOFFSETFROM:-0400
TZOFFSETTO:-0500
TZNAME:EST
DTSTART:20261101T060000
END:STANDARD
END:VTIMEZONE
BEGIN:VEVENT
DTSTART;TZID=America/New_York:20250701T150000
DTEND;TZID=America/New_York:20250701T200000
DTSTAMP:20260420T152933
CREATED:20250701T024930Z
LAST-MODIFIED:20250701T031230Z
UID:10004073-1751382000-1751400000@moac.org
SUMMARY:Walk Around Peaks Island & Picnic with Teens 2 Trails
DESCRIPTION:This is a repeat of a popular trip! We will arrive at the Ferry Terminal around 3:00 PM  to buy our tickets and prepare to board the 3:15 car ferry to Peaks Island. ($14 Adults/ $7 Adults age 65+ Children 5+ or Disabled).  Distance is 4 miles and will take 2-3 hours or more stopping for beautiful views.  We’ll walk at a conversational pace.   Meet at the Marginal Way Park n’ Ride at 2:45 to carpool to the Ferry.  Parking is expensive ($5+/hour) and hard to find near the terminal.  Text Eileen at 207-749-0211\, so we will look for you at Marginal Way or if you walk to the Ferry\, so we can find you at the terminal. \n\n\n\n\n\n\n\nMOAC will join Teens 2 Trails on Tuesday\, July 1\, on Peaks Island to celebrate an incredible year of connecting Maine teens to the outdoors and to each other.  Peaks Island Lions Club\, 5:00–7:30 PM\nEnjoy a Community Contradance at 6:00 PM with music by the Portland Intown Oldtime Band with Maggie Robinson calling the dance. Sandwiches from Cheese Louise and drinks will be served. This gathering is meant to be informal and hassle-free. We’ll share what we have until it runs out\, but feel free to BYO picnic and drinks. No rain date.  Let’s get together with Teens 2 Trails to celebrate community\, inclusion\, and outdoor fun! \n\n\n\nGet Tickets (Free)\n\n\n\n\n\n\n\n\n\n\n\nReturn to Portland according to the schedule below:\nTo Peaks/From Peaks\n\n\n\n3:15 cf\n3:45 cf\n\n\n4:30 cf\n5:00 cf\n\n\n5:35 cf\n6:00 cf\n\n\n7:15\n7:45\n\n\n8:15\n8:45
URL:https://moac.org/event/walk-around-peaks-island-picnic-with-teens-2-trails/
CATEGORIES:Walking
ATTACH;FMTTYPE=image/jpeg:https://moac.org/wp-content/uploads/Peaks-Is-1-1.jpg
ORGANIZER;CN="Eileen Whynot":MAILTO:ewhynote@gmail.com
END:VEVENT
BEGIN:VEVENT
DTSTART;TZID=America/New_York:20250702T173000
DTEND;TZID=America/New_York:20250702T190000
DTSTAMP:20260420T152933
CREATED:20250629T144631Z
LAST-MODIFIED:20250629T144631Z
UID:10004068-1751477400-1751482800@moac.org
SUMMARY:Eastern Prom Walk--Portland
DESCRIPTION:Join me for a walk on the Eastern Prom and East End Beach trail.  This is a beautiful walk on a nice summer evening.  Distance is about 3.5 miles.  Meet at the monument at the intersection of the Eastern Prom and Congress Street.
URL:https://moac.org/event/eastern-prom-walk-portland-2/
CATEGORIES:Walking
ORGANIZER;CN="Bonnie Farrand":MAILTO:Bonniefarrand@gmail.com
END:VEVENT
BEGIN:VEVENT
DTSTART;TZID=America/New_York:20250707T173000
DTEND;TZID=America/New_York:20250707T190000
DTSTAMP:20260420T152933
CREATED:20250628T203902Z
LAST-MODIFIED:20250706T171919Z
UID:10004065-1751909400-1751914800@moac.org
SUMMARY:Evening Walk at Fuller Farm - CANCELED
DESCRIPTION:The walk at Fuller Farm is being canceled because of the forecasted heat advisory\, high temperatures + humidity\,  and strong possibility of thunderstorms. \nIt will be rescheduled at a later date.
URL:https://moac.org/event/evening-walk-at-fuller-farm/
LOCATION:Fuller Farm Preserve\, 309 Broadturn Road\, Scarborough\, 04074\, United States
CATEGORIES:Walking
ATTACH;FMTTYPE=image/jpeg:https://moac.org/wp-content/uploads/fuller-farm.jpg
ORGANIZER;CN="Amy Witt":MAILTO:amymwitt22@gmail.com
END:VEVENT
BEGIN:VEVENT
DTSTART;TZID=America/New_York:20250717T130000
DTEND;TZID=America/New_York:20250720T110000
DTSTAMP:20260420T152933
CREATED:20250527T142956Z
LAST-MODIFIED:20250715T163758Z
UID:10004021-1752757200-1753009200@moac.org
SUMMARY:Camping at Rangeley Lake State Park-Trip is Full
DESCRIPTION:Eileen’s Text: 207-749-0211  MOAC has reserved the East End Group Camping Site at Rangeley Lake State Park (RLSP) for three nights.  There is one larger area for group meals and hanging out with a fire.  Otherwise\, there are separate sites for each member(s).  This set-up allows for both privacy and social time with the group.  The park boasts a swimming beach with a grassy area and steps leading into the water where boats can be launched\, as well as two miles of walking trails.  MAP OF THE CAMPGROUND \nThere are plenty of options for activities at RLSP or elsewhere in the area:  hiking\, walking\, swimming\, boating and mountain biking.  Leaders will need to self-identify.  4k footer peak baggers or AT section hikers have options as well as.  Here are 28 walks and hikes within 20 miles of Rangeley.\nTop hikes in Rangeley area from All Trails\nVisit Maine Bureau of Parks and Lands online for more information and a printable map.\nFEE:  $30 per person for the trip regardless of how many nights.   Since the leader pays the balance upon arrival\, you will need to pay $30 upfront to reserve your space.  Sites will be claimed on a first come\, first serve basis.  Pay by Venmo @Eileen-Whynot.  It is probably too late to mail a check to me. \nFOOD:  As was the case in 2024\, the leader will provide grill-able meats and veggie options.  Otherwise\, the dinners will be potluck\, so plan on bringing food to share\, bring your own (BYO)  beverages\, plate and utensils.  BYO lunch and breakfast food or plan to eat out in Rangeley. ADDRESS:  One State Park Road\, Rangeley\, Maine 04970 \nView BPL’s map and guide for Rangeley State Park
URL:https://moac.org/event/camping-at-rangeley-lake-state-park/
CATEGORIES:Hiking,Kayaking/Canoeing,Mountain Biking,Social,Walking
ATTACH;FMTTYPE=image/jpeg:https://moac.org/wp-content/uploads/Rangeley_Lake.jpg
ORGANIZER;CN="Eileen Whynot":MAILTO:ewhynote@gmail.com
END:VEVENT
BEGIN:VEVENT
DTSTART;TZID=America/New_York:20250722T173000
DTEND;TZID=America/New_York:20250722T190000
DTSTAMP:20260420T152933
CREATED:20250628T204708Z
LAST-MODIFIED:20250628T204708Z
UID:10004066-1753205400-1753210800@moac.org
SUMMARY:Evening Walk at Pride Preserve
DESCRIPTION:Pride preserve features mostly flat trails through forest and wetlands\, and includes a series of waterfalls and ponds. \nTrailhead parking lot is across from 360 Duck Pond Road.
URL:https://moac.org/event/evening-walk-at-pride-preserve/
LOCATION:Pride Preserve\, 360 Duck Pond Road\, Westbrook\, 04092\, United States
CATEGORIES:Walking
ATTACH;FMTTYPE=image/jpeg:https://moac.org/wp-content/uploads/pride-preserve.jpg
ORGANIZER;CN="Amy Witt":MAILTO:amymwitt22@gmail.com
END:VEVENT
BEGIN:VEVENT
DTSTART;TZID=America/New_York:20250724T180000
DTEND;TZID=America/New_York:20250724T200000
DTSTAMP:20260420T152933
CREATED:20250723T141051Z
LAST-MODIFIED:20250723T141051Z
UID:10004097-1753380000-1753387200@moac.org
SUMMARY:Scarborough Pine Point Low Tide Walk
DESCRIPTION:Scarborough Pine Point Low Tide Walk. Municipal parking lot Pine Point Avenue 5; FREE 6:00 PM. Meet 6:10 PM. Walk 6:15-7:45 PM. Low tide 5:18\, sunset 8:14 PM. SUNGLASSES REQUIRED.
URL:https://moac.org/event/scarborough-pine-point-low-tide-walk/
CATEGORIES:Walking
ORGANIZER;CN="Jerry Jalbert":MAILTO:gjalbert53@gmail.com
END:VEVENT
END:VCALENDAR