BEGIN:VCALENDAR
VERSION:2.0
PRODID:-//MOAC - Maine Outdoor Adventure Club - ECPv6.15.12.1//NONSGML v1.0//EN
CALSCALE:GREGORIAN
METHOD:PUBLISH
X-ORIGINAL-URL:https://moac.org
X-WR-CALDESC:Events for MOAC - Maine Outdoor Adventure Club
REFRESH-INTERVAL;VALUE=DURATION:PT1H
X-Robots-Tag:noindex
X-PUBLISHED-TTL:PT1H
BEGIN:VTIMEZONE
TZID:America/New_York
BEGIN:DAYLIGHT
TZOFFSETFROM:-0500
TZOFFSETTO:-0400
TZNAME:EDT
DTSTART:20240310T070000
END:DAYLIGHT
BEGIN:STANDARD
TZOFFSETFROM:-0400
TZOFFSETTO:-0500
TZNAME:EST
DTSTART:20241103T060000
END:STANDARD
BEGIN:DAYLIGHT
TZOFFSETFROM:-0500
TZOFFSETTO:-0400
TZNAME:EDT
DTSTART:20250309T070000
END:DAYLIGHT
BEGIN:STANDARD
TZOFFSETFROM:-0400
TZOFFSETTO:-0500
TZNAME:EST
DTSTART:20251102T060000
END:STANDARD
BEGIN:DAYLIGHT
TZOFFSETFROM:-0500
TZOFFSETTO:-0400
TZNAME:EDT
DTSTART:20260308T070000
END:DAYLIGHT
BEGIN:STANDARD
TZOFFSETFROM:-0400
TZOFFSETTO:-0500
TZNAME:EST
DTSTART:20261101T060000
END:STANDARD
END:VTIMEZONE
BEGIN:VEVENT
DTSTART;TZID=America/New_York:20251031T080000
DTEND;TZID=America/New_York:20251102T130000
DTSTAMP:20260420T224555
CREATED:20251025T170027Z
LAST-MODIFIED:20251025T170829Z
UID:10004151-1761897600-1762088400@moac.org
SUMMARY:Take Pride in Acadia Day\, 2025 - Rescheduled to 11/9
DESCRIPTION:Due to the government shutdown\, TPIAD has been moved to Sunday\, November 9. If the government is still shutdown on November 3rd\, the event will be cancelled. \nTammy and I cannot attend on the 9th\, so there will be no official MOAC group this year. If you would like to participate as an individual\, please sign up here: \nTake Pride in Acadia Day \n \nYou will be assigned to random groups. \nI have left the original information from the event below. \n———————— \nFor 34 years\, volunteers have gathered on the first Saturday of November to help ready the famous carriage roads for winter. Sponsored by Friends of Acadia\, teams are assigned troublesome sections of carriage roads where erosion can cause damage over the winter. The task? Rake the leaves and debris off the shoulders and into the woods. MOAC has had members at this event for many years. We have a team that will work together. \nMost who sign up make it a weekend\, but that is not required. The actual commitment to the park is from roughly 8:30 am to noon on Saturday. If you choose to make it a weekend\, the rest of the time is yours. \nThere is no cost to the event itself. If you choose to stay over\, you will need to find your own lodging. Tam and I are staying at the Bar Harbor Grand Hotel\, right in downtown and that has been the hotel of choice for the most part for a few years now. But\, you can do as you wish in this regard. The Grand offers a free breakfast. Local restaurants for the rest. \nExcept for the provided lunch after the work Saturday. After our work commitment is done\, we can head over to the Hulls Cove Visitors Center for a “CCC” lunch. Chili\, cornbread\, and cider.  Aside from the ingredients\, it’s named to honor the Civilian Conservation Corp\, who did a lot of work in Acadia.
URL:https://moac.org/event/take-pride-in-acadia-day-2025/
CATEGORIES:Happy Hour/Dancing,Hiking,Mountain Biking,Other/General,Road Biking,Social,Walking
ATTACH;FMTTYPE=image/jpeg:https://moac.org/wp-content/uploads/Take-Pride-2.jpeg
ORGANIZER;CN="Peter Mullen":MAILTO:pcm25me@gmail.com
END:VEVENT
BEGIN:VEVENT
DTSTART;TZID=America/New_York:20251102T130000
DTEND;TZID=America/New_York:20251102T150000
DTSTAMP:20260420T224555
CREATED:20251031T213750Z
LAST-MODIFIED:20251031T213750Z
UID:10004195-1762088400-1762095600@moac.org
SUMMARY:Alewive Woods Preserve in Kennebunk
DESCRIPTION:Join me on for a walk on about 2.5 miles of fairly flat trails at Alewive Woods Preserve located on Cole Rd in Kennebunk. \nThe preserve has over 625 acres of land with a 45 acre pond at its center. \nCheck out the Maine Trail Finder link here for more info including directions (there is not an exact address): \nhttps://www.mainetrailfinder.com/trails/trail/alewife-woods-preserve \nMeet at 1\, walk for about 1.5 hours.   Hunting season is here and although it is Sunday\, wearing something orange is always advisable. \nIt also looks like a small parking lot so plan accordingly. \nText me at 650-7417 if you plan to join me or have questions. \n 
URL:https://moac.org/event/alewive-woods-preserve-in-kennebunk/
CATEGORIES:Walking
ORGANIZER;CN="Elaine M Vadeboncoeur":MAILTO:evadeboncoeur@gmail.com
END:VEVENT
BEGIN:VEVENT
DTSTART;TZID=America/New_York:20251129T140000
DTEND;TZID=America/New_York:20251129T160000
DTSTAMP:20260420T224555
CREATED:20251022T141145Z
LAST-MODIFIED:20260203T154936Z
UID:10004189-1764424800-1764432000@moac.org
SUMMARY:Turkey Strut-Wear Orange -
DESCRIPTION:Meet at the trailhead on the corner of Methodist Road and Route 302 in Westbrook to walk in the Millbrook Preserve.  We’ll walk about three miles or more.  Wear trail shoes or hiking boots for a fast-paced walk.  Burn those Thanksgiving calories and ease your guilt\, if you have any.
URL:https://moac.org/event/turkey-strut-wear-orange/
CATEGORIES:Social,Walking
ATTACH;FMTTYPE=image/jpeg:https://moac.org/wp-content/uploads/20250517_164616.jpg
ORGANIZER;CN="Eileen Whynot":MAILTO:ewhynote@gmail.com
END:VEVENT
END:VCALENDAR