BEGIN:VCALENDAR
VERSION:2.0
PRODID:-//MOAC - Maine Outdoor Adventure Club - ECPv6.15.12.1//NONSGML v1.0//EN
CALSCALE:GREGORIAN
METHOD:PUBLISH
X-ORIGINAL-URL:https://moac.org
X-WR-CALDESC:Events for MOAC - Maine Outdoor Adventure Club
REFRESH-INTERVAL;VALUE=DURATION:PT1H
X-Robots-Tag:noindex
X-PUBLISHED-TTL:PT1H
BEGIN:VTIMEZONE
TZID:America/New_York
BEGIN:DAYLIGHT
TZOFFSETFROM:-0500
TZOFFSETTO:-0400
TZNAME:EDT
DTSTART:20240310T070000
END:DAYLIGHT
BEGIN:STANDARD
TZOFFSETFROM:-0400
TZOFFSETTO:-0500
TZNAME:EST
DTSTART:20241103T060000
END:STANDARD
BEGIN:DAYLIGHT
TZOFFSETFROM:-0500
TZOFFSETTO:-0400
TZNAME:EDT
DTSTART:20250309T070000
END:DAYLIGHT
BEGIN:STANDARD
TZOFFSETFROM:-0400
TZOFFSETTO:-0500
TZNAME:EST
DTSTART:20251102T060000
END:STANDARD
BEGIN:DAYLIGHT
TZOFFSETFROM:-0500
TZOFFSETTO:-0400
TZNAME:EDT
DTSTART:20260308T070000
END:DAYLIGHT
BEGIN:STANDARD
TZOFFSETFROM:-0400
TZOFFSETTO:-0500
TZNAME:EST
DTSTART:20261101T060000
END:STANDARD
END:VTIMEZONE
BEGIN:VEVENT
DTSTART;TZID=America/New_York:20251015T171000
DTEND;TZID=America/New_York:20251015T181500
DTSTAMP:20260420T222743
CREATED:20251013T222721Z
LAST-MODIFIED:20251013T222722Z
UID:10004184-1760548200-1760552100@moac.org
SUMMARY:After Work Commercial St. Wharves walk
DESCRIPTION:  \nLet’s explore  Portland’s working waterfront on the  Commercial St Wharves.  Meet at 5:10 PM at  the granite obelisk (Cleeves Memorial ) at the intersection of Congress Street and the Eastern Promenade. We’ll walk along the Eastern Prom\, down to  Commercial St and  out on a couple of wharves. Bring your phone/camera as  the working waterfront  awaits. \nShow and go.
URL:https://moac.org/event/after-work-commercial-st-wharves-walk/
CATEGORIES:Walking
ORGANIZER;CN="Dan Sexton":MAILTO:bradbury20@gmail.com
END:VEVENT
END:VCALENDAR