BEGIN:VCALENDAR
VERSION:2.0
PRODID:-//MOAC - Maine Outdoor Adventure Club - ECPv6.15.12.1//NONSGML v1.0//EN
CALSCALE:GREGORIAN
METHOD:PUBLISH
X-WR-CALNAME:MOAC - Maine Outdoor Adventure Club
X-ORIGINAL-URL:https://moac.org
X-WR-CALDESC:Events for MOAC - Maine Outdoor Adventure Club
REFRESH-INTERVAL;VALUE=DURATION:PT1H
X-Robots-Tag:noindex
X-PUBLISHED-TTL:PT1H
BEGIN:VTIMEZONE
TZID:America/New_York
BEGIN:DAYLIGHT
TZOFFSETFROM:-0500
TZOFFSETTO:-0400
TZNAME:EDT
DTSTART:20240310T070000
END:DAYLIGHT
BEGIN:STANDARD
TZOFFSETFROM:-0400
TZOFFSETTO:-0500
TZNAME:EST
DTSTART:20241103T060000
END:STANDARD
BEGIN:DAYLIGHT
TZOFFSETFROM:-0500
TZOFFSETTO:-0400
TZNAME:EDT
DTSTART:20250309T070000
END:DAYLIGHT
BEGIN:STANDARD
TZOFFSETFROM:-0400
TZOFFSETTO:-0500
TZNAME:EST
DTSTART:20251102T060000
END:STANDARD
BEGIN:DAYLIGHT
TZOFFSETFROM:-0500
TZOFFSETTO:-0400
TZNAME:EDT
DTSTART:20260308T070000
END:DAYLIGHT
BEGIN:STANDARD
TZOFFSETFROM:-0400
TZOFFSETTO:-0500
TZNAME:EST
DTSTART:20261101T060000
END:STANDARD
END:VTIMEZONE
BEGIN:VEVENT
DTSTART;TZID=America/New_York:20250718T093000
DTEND;TZID=America/New_York:20250718T113000
DTSTAMP:20260422T231727
CREATED:20250714T122811Z
LAST-MODIFIED:20250714T123243Z
UID:10004086-1752831000-1752838200@moac.org
SUMMARY:Pettengill Farm walk
DESCRIPTION:Join me for a walk back into history. We’ll explore the grounds of an historic saltwater farm with an iconic saltbox house built in 1810. There are trails down to the waterfront and marsh\, for up to 3 miles of walking. There are a few parking spots at the end of the road\, but please don’t block the gate\, otherwise you can park along the road. Email me with questions at ahitzrot@gmail.com.
URL:https://moac.org/event/pettengill-farm-walk/
LOCATION:33 Pettengill Farm Rd\, Freeport\, ME\, 33 Pettengill Farm Rd\, Freeport\, ME
ATTACH;FMTTYPE=image/jpeg:https://moac.org/wp-content/uploads/IMG_5442.jpeg
ORGANIZER;CN="Ann Hitzrot":MAILTO:ahitzrot@gmail.com
END:VEVENT
END:VCALENDAR